BEGIN:VCALENDAR
VERSION:2.0
PRODID:-//Calendar - ECPv4.6.10.1//NONSGML v1.0//EN
CALSCALE:GREGORIAN
METHOD:PUBLISH
X-WR-CALNAME:Calendar
X-ORIGINAL-URL:http://calendar.shopmercermall.com
X-WR-CALDESC:Events for Calendar
BEGIN:VEVENT
DTSTART;VALUE=DATE:20180907
DTEND;VALUE=DATE:20180910
DTSTAMP:20260423T213516
CREATED:20180827T194826Z
LAST-MODIFIED:20180905T180042Z
UID:178-1536278400-1536537599@calendar.shopmercermall.com
SUMMARY:Maurices Loves Teachers 25% off Event
DESCRIPTION:Teachers show your teacher ID and receive 25% off regular priced purchases. Free gifts\, styling sessions\, & a chance for extra credit if you bring your teacher friends & make it a shopping party! \n \n
URL:http://calendar.shopmercermall.com/event/maurices-love-teachers-25-off-event/
END:VEVENT
BEGIN:VEVENT
DTSTART;TZID=UTC+0:20180907T120000
DTEND;TZID=UTC+0:20180907T170000
DTSTAMP:20260423T213516
CREATED:20180827T194621Z
LAST-MODIFIED:20180827T194621Z
UID:174-1536321600-1536339600@calendar.shopmercermall.com
SUMMARY:American Red Cross- Blood Drive
DESCRIPTION:
URL:http://calendar.shopmercermall.com/event/american-red-cross-blood-drive-14/
END:VEVENT
END:VCALENDAR