BEGIN:VCALENDAR
VERSION:2.0
PRODID:-//Calendar - ECPv4.6.10.1//NONSGML v1.0//EN
CALSCALE:GREGORIAN
METHOD:PUBLISH
X-WR-CALNAME:Calendar
X-ORIGINAL-URL:http://calendar.shopmercermall.com
X-WR-CALDESC:Events for Calendar
BEGIN:VEVENT
DTSTART;TZID=UTC+0:20181005T120000
DTEND;TZID=UTC+0:20181005T170000
DTSTAMP:20260421T084337
CREATED:20181001T155123Z
LAST-MODIFIED:20181001T155123Z
UID:206-1538740800-1538758800@calendar.shopmercermall.com
SUMMARY:American Red Cross- Blood Drive
DESCRIPTION:
URL:http://calendar.shopmercermall.com/event/american-red-cross-blood-drive-16/
END:VEVENT
END:VCALENDAR